BEGIN:VCALENDAR
VERSION:2.0
PRODID:-//ActiveBury//Events//EN
CALSCALE:GREGORIAN
BEGIN:VEVENT
UID:event-1913@activebury.com
DTSTAMP:20260425T182739Z
SUMMARY:Car Show at Johnny’s Tavern – 2026
DTSTART:20260411T090000
DTEND:20260411T160000
LOCATION:39 Main St East New Market \, MD 21631
DESCRIPTION:Join us at Johnny\\'s Tavern for our annual Car Show! This year\\'s event will be held on Saturday\, April 11\, 2026. Registration opens at 9am. $20 per vehicle. \\n\nMore info: https://heroeshaven.org/events/carshow2025/\nActiveBury: https://www.activebury.com/events/1913
URL:https://www.activebury.com/events/1913
END:VEVENT
END:VCALENDAR
