BEGIN:VCALENDAR
VERSION:2.0
PRODID:-//ActiveBury//Events//EN
CALSCALE:GREGORIAN
BEGIN:VEVENT
UID:event-1912@activebury.com
DTSTAMP:20260425T133422Z
SUMMARY:Farmer Abe Visits Kingstown
DTSTART:20260327T090000
DTEND:20260327T110000
LOCATION:The Mill of Kingstown Address: 7121 Church Hill Rd\, Chestertown\, MD 21620 Join us at The Mill of Kingstown on Friday\, March 27 from 9:00 AM to 11:00 AM for a special visit from local children’s author
DESCRIPTION:Join us at The Mill of Kingstown on Friday\, March 27 from 9:00 AM to 11:00 AM for a special visit from local children’s author Farmer Abe !\n\nMeet local children’s author Farmer Abe as he shares his books and chats with families about farm life and agriculture.\n\nPerfect for young readers and families\, this casual\, interactive experience gives kids the chance to talk with the author\, learn about farming\, animals\, and rural life\, and get their books signed.\n\n📚 Books available for purchase during the event 📚 Limited copies available in-store after the event\n\nWith more than 8\,000 copies sold \, Farmer Abe’s books have become a favorite for families who love farm stories and hands-on learning.\n\nLearn more about Farmer Abe here: https://farmerabe.com/\n\nWe look forward to a fun and educational morning with you at The Mill of Kingstown!\nMore info: https://www.themillstores.com/pages/events/farmer-abe-book-reading-kingstown\nActiveBury: https://www.activebury.com/events/1912
URL:https://www.activebury.com/events/1912
END:VEVENT
END:VCALENDAR
