BEGIN:VCALENDAR
VERSION:2.0
PRODID:-//ActiveBury//Events//EN
CALSCALE:GREGORIAN
BEGIN:VEVENT
UID:event-1911@activebury.com
DTSTAMP:20260425T134006Z
SUMMARY:Wholesome Harvest Visit
DTSTART;VALUE=DATE:20260326
DTEND;VALUE=DATE:20260327
LOCATION:The Mill of Bel Air Address: 424 N Main St\, Bel Air\, MD 21014 Join us at The Mill of Bel Air on March 26 as we welcome Wholesome Harvest for a special in-store visit during Chick Day. Representatives
DESCRIPTION:Join us at The Mill of Bel Air on March 26 as we welcome Wholesome Harvest for a special in-store visit during Chick Day.\n\nRepresentatives from Wholesome Harvest will be on-site to engage with customers\, answer questions\, and share helpful information about poultry nutrition and feeding programs . This is a great opportunity to learn more about supporting healthy growth and development for your chicks and backyard flock.\n\nWhether you're starting a new flock or continuing your poultry journey\, stop by to connect with the Wholesome Harvest team and gain valuable insight.\n\nWe look forward to seeing you at The Mill of Bel Air!\nMore info: https://www.themillstores.com/pages/events/wholesome-harvest-visit\nActiveBury: https://www.activebury.com/events/1911
URL:https://www.activebury.com/events/1911
END:VEVENT
END:VCALENDAR
