BEGIN:VCALENDAR
VERSION:2.0
PRODID:-//ActiveBury//Events//EN
CALSCALE:GREGORIAN
BEGIN:VEVENT
UID:event-1910@activebury.com
DTSTAMP:20260425T133425Z
SUMMARY:Pond Plants
DTSTART:20260317T180000
LOCATION:The Mill of Kingstown Address: 7121 Church Hill Rd\, Chestertown\, MD 21620 Join The Mill of Kingstown on Tuesday\, March 17 at 6:00 PM for an educational discussion on Pond Plants . This session will ex
DESCRIPTION:Join The Mill of Kingstown on Tuesday\, March 17 at 6:00 PM for an educational discussion on Pond Plants .\n\nThis session will explore which plants are best to place in and around your pond to support wildlife\, attract birds\, and help protect fish by improving habitat and water conditions.\n\nWhile the discussion will be geared primarily toward natural pond environments \, those with ornamental ponds or bog ponds will also find valuable information and practical guidance.\n\nWhether you’re building a new pond or enhancing an existing one\, this program will help you make smart planting choices that support a healthy aquatic ecosystem.\n\nWe look forward to seeing you at The Mill of Kingstown!\nMore info: https://www.themillstores.com/pages/events/pond-plants\nActiveBury: https://www.activebury.com/events/1910
URL:https://www.activebury.com/events/1910
END:VEVENT
END:VCALENDAR
