BEGIN:VCALENDAR
VERSION:2.0
PRODID:-//ActiveBury//Events//EN
CALSCALE:GREGORIAN
BEGIN:VEVENT
UID:event-1909@activebury.com
DTSTAMP:20260425T133825Z
SUMMARY:Turf Talk - The Mill of Bel Air
DTSTART:20260312T180000
LOCATION:The Mill of Bel Air Address: 424 N Main St\, Bel Air\, MD 21014 Join The Mill of Bel Air on Thursday\, March 12 at 6:00 PM for Turf Talk \, an informative session focused on lawn care and turf management.
DESCRIPTION:Join The Mill of Bel Air on Thursday\, March 12 at 6:00 PM for Turf Talk \, an informative session focused on lawn care and turf management.\n\nWhether you're maintaining your home lawn or managing larger turf areas\, this session will provide practical tips\, seasonal guidance\, and expert advice to help you achieve healthy\, vibrant turf.\n\n📍 The Mill of Bel Air 📅 Thursday\, March 12 🕕 6:00 PM\n\nPlease call The Mill of Bel Air to register and reserve your spot.\n\n(410) 838-6111\n\nWe look forward to helping you prepare for a successful growing season!\nMore info: https://www.themillstores.com/pages/events/turf-talk-the-mill-of-bel-air\nActiveBury: https://www.activebury.com/events/1909
URL:https://www.activebury.com/events/1909
END:VEVENT
END:VCALENDAR
