BEGIN:VCALENDAR
VERSION:2.0
PRODID:-//ActiveBury//Events//EN
CALSCALE:GREGORIAN
BEGIN:VEVENT
UID:event-1907@activebury.com
DTSTAMP:20260425T133429Z
SUMMARY:S.T.E.A.M.-DIY Windmill
DTSTART:20260429T140000
DTEND:20260429T150000
LOCATION:Crisfield Library\, 100 Collins St\, Crisfield\, MD 21817\, USA
DESCRIPTION:Educational fun for kids of every age!\n\nToday's STEAM: DIY Windmill- Engineer your own windmill and learn about renewable energy!\nMore info: https://somelibrary.org/\nActiveBury: https://www.activebury.com/events/1907
URL:https://www.activebury.com/events/1907
END:VEVENT
END:VCALENDAR
