BEGIN:VCALENDAR
VERSION:2.0
PRODID:-//ActiveBury//Events//EN
CALSCALE:GREGORIAN
BEGIN:VEVENT
UID:event-1902@activebury.com
DTSTAMP:20260425T164238Z
SUMMARY:S.T.E.A.M.-DIY Windmill
DTSTART:20260427T140000
DTEND:20260427T150000
LOCATION:Princess Anne Library\, 11767 Beechwood St\, Princess Anne\, MD 21853\, USA
DESCRIPTION:Educational fun for kids of every age!\n\nToday's STEAM: DIY Windmill- Engineer your own windmill and learn about renewable energy!\nMore info: https://somelibrary.org/\nActiveBury: https://www.activebury.com/events/1902
URL:https://www.activebury.com/events/1902
END:VEVENT
END:VCALENDAR
