BEGIN:VCALENDAR
VERSION:2.0
PRODID:-//ActiveBury//Events//EN
CALSCALE:GREGORIAN
BEGIN:VEVENT
UID:event-190@activebury.com
DTSTAMP:20260425T153330Z
SUMMARY:PokéClub
DTSTART:20260211T160000
DTEND:20260211T170000
LOCATION:Paul S. Sarbanes Branch
DESCRIPTION:This event is in the "Ages 6-11" group 4:00pm–5:00pm Ages 6-11 Paul S. Sarbanes Branch Closed Registration Available This event is in the "Ages 6-11" group Feb 11 2026 Wed PokéClub 4:00pm–5:00pm Paul S. Sarbanes Branch Closed Please note you are looking at an event that has already happened. Paul S. Sarbanes Branch STEAM Studio Ages 6-11 Games Registration Available Update for winter: PokéClub is moving to the second and fourth Wednesdays in the STEAM Studio\nMore info: https://www.wicomicolibrary.org/event/pokeclub-21205\nActiveBury: https://www.activebury.com/events/190
URL:https://www.activebury.com/events/190
END:VEVENT
END:VCALENDAR
