BEGIN:VCALENDAR
VERSION:2.0
PRODID:-//ActiveBury//Events//EN
CALSCALE:GREGORIAN
BEGIN:VEVENT
UID:event-1898@activebury.com
DTSTAMP:20260425T134520Z
SUMMARY:Lego Club- Build a bunny
DTSTART:20260425T140000
DTEND:20260425T160000
LOCATION:Crisfield Library\, 100 Collins St\, Crisfield\, MD 21817\, USA
DESCRIPTION:Come out and complete our Lego challenges!\n\nTodays challenge:Build a bunny\nMore info: https://somelibrary.org/\nActiveBury: https://www.activebury.com/events/1898
URL:https://www.activebury.com/events/1898
END:VEVENT
END:VCALENDAR
