BEGIN:VCALENDAR
VERSION:2.0
PRODID:-//ActiveBury//Events//EN
CALSCALE:GREGORIAN
BEGIN:VEVENT
UID:event-1890@activebury.com
DTSTAMP:20260425T133429Z
SUMMARY:Long Birdhouse Sign
DTSTART:20260422T110000
DTEND:20260422T123000
LOCATION:Princess Anne Library\, 11767 Beechwood St\, Princess Anne\, MD 21853\, USA
DESCRIPTION:Choose your colors to paint and assemble this fun faux bird house sign. Add some dimension with vines and florals. Registration required.\nMore info: https://somelibrary.org/\nActiveBury: https://www.activebury.com/events/1890
URL:https://www.activebury.com/events/1890
END:VEVENT
END:VCALENDAR
