BEGIN:VCALENDAR
VERSION:2.0
PRODID:-//ActiveBury//Events//EN
CALSCALE:GREGORIAN
BEGIN:VEVENT
UID:event-1887@activebury.com
DTSTAMP:20260425T133324Z
SUMMARY:Long Birdhouse Sign
DTSTART:20260420T110000
DTEND:20260420T123000
LOCATION:Crisfield Library\, 100 Collins St\, Crisfield\, MD 21817\, USA
DESCRIPTION:Choose your colors to paint and assemble this fun faux bird house sign. Add some dimension with vines and florals. Registration required.\nMore info: https://somelibrary.org/\nActiveBury: https://www.activebury.com/events/1887
URL:https://www.activebury.com/events/1887
END:VEVENT
END:VCALENDAR
