BEGIN:VCALENDAR
VERSION:2.0
PRODID:-//ActiveBury//Events//EN
CALSCALE:GREGORIAN
BEGIN:VEVENT
UID:event-1885@activebury.com
DTSTAMP:20260425T133841Z
SUMMARY:Shore Legal Access Heirs Property Info Session
DTSTART:20260418T110000
DTEND:20260418T120000
LOCATION:Crisfield Library\, 100 Collins St\, Crisfield\, MD 21817\, USA
DESCRIPTION:Join Shore Legal Access to learn about heirs property—family land passed down without a will or clear title. We can help untangle your title\, reduce risk\, and protect your family’s property for the future.\nMore info: https://somelibrary.org/\nActiveBury: https://www.activebury.com/events/1885
URL:https://www.activebury.com/events/1885
END:VEVENT
END:VCALENDAR
