BEGIN:VCALENDAR
VERSION:2.0
PRODID:-//ActiveBury//Events//EN
CALSCALE:GREGORIAN
BEGIN:VEVENT
UID:event-1883@activebury.com
DTSTAMP:20260425T133908Z
SUMMARY:Family Paint Night
DTSTART:20260417T173000
DTEND:20260417T190000
LOCATION:Princess Anne Library\, 11767 Beechwood St\, Princess Anne\, MD 21853\, USA
DESCRIPTION:<p>April: Lupine Flowers</p>Join us for a fun-filled family paint night! Unleash your creativity together and create colorful memories on canvas. All materials plus food will be provided. Registration Required (Recommended ages 5 and up)\nMore info: https://somelibrary.org/\nActiveBury: https://www.activebury.com/events/1883
URL:https://www.activebury.com/events/1883
END:VEVENT
END:VCALENDAR
