BEGIN:VCALENDAR
VERSION:2.0
PRODID:-//ActiveBury//Events//EN
CALSCALE:GREGORIAN
BEGIN:VEVENT
UID:event-1880@activebury.com
DTSTAMP:20260425T133420Z
SUMMARY:S.T.E.A.M.-Flower Slime
DTSTART:20260415T140000
DTEND:20260415T150000
LOCATION:Crisfield Library\, 100 Collins St\, Crisfield\, MD 21817\, USA
DESCRIPTION:Educational fun for kids of every age!\n\nToday's STEAM: Flower Slime- Create a spring themed slime with some flower glitter!\nMore info: https://somelibrary.org/\nActiveBury: https://www.activebury.com/events/1880
URL:https://www.activebury.com/events/1880
END:VEVENT
END:VCALENDAR
