BEGIN:VCALENDAR
VERSION:2.0
PRODID:-//ActiveBury//Events//EN
CALSCALE:GREGORIAN
BEGIN:VEVENT
UID:event-188@activebury.com
DTSTAMP:20260425T133309Z
SUMMARY:Pinehurst Elementary School
DTSTART:20260211T080000
DTEND:20260211T140000
LOCATION:Bookmobile
DESCRIPTION:This event is in the "Everyone" group 8:00am–2:00pm Everyone Bookmobile Offsite Event This event is in the "Everyone" group Feb 11 2026 Wed Pinehurst Elementary School 8:00am–2:00pm Bookmobile Please note you are looking at an event that has already happened. Bookmobile Everyone\nMore info: https://www.wicomicolibrary.org/event/pinehurst-elementary-school-20236\nActiveBury: https://www.activebury.com/events/188
URL:https://www.activebury.com/events/188
END:VEVENT
END:VCALENDAR
