BEGIN:VCALENDAR
VERSION:2.0
PRODID:-//ActiveBury//Events//EN
CALSCALE:GREGORIAN
BEGIN:VEVENT
UID:event-1878@activebury.com
DTSTAMP:20260425T133425Z
SUMMARY:Windows 11 Basics
DTSTART:20260415T110000
DTEND:20260415T120000
LOCATION:Princess Anne Library\, 11767 Beechwood St\, Princess Anne\, MD 21853\, USA
DESCRIPTION:Join us to learn about and how to navigate Windows 11. Registration required.\nMore info: https://somelibrary.org/\nActiveBury: https://www.activebury.com/events/1878
URL:https://www.activebury.com/events/1878
END:VEVENT
END:VCALENDAR
