BEGIN:VCALENDAR
VERSION:2.0
PRODID:-//ActiveBury//Events//EN
CALSCALE:GREGORIAN
BEGIN:VEVENT
UID:event-1873@activebury.com
DTSTAMP:20260425T133449Z
SUMMARY:Google Docs & Sheets
DTSTART:20260414T110000
DTEND:20260414T120000
DESCRIPTION:Join us to learn about creating and using Google Docs and Sheets. Registration required.\nMore info: https://somelibrary.org/\nActiveBury: https://www.activebury.com/events/1873
URL:https://www.activebury.com/events/1873
END:VEVENT
END:VCALENDAR
