BEGIN:VCALENDAR
VERSION:2.0
PRODID:-//ActiveBury//Events//EN
CALSCALE:GREGORIAN
BEGIN:VEVENT
UID:event-1872@activebury.com
DTSTAMP:20260425T133325Z
SUMMARY:S.T.E.A.M.-Flower Slime
DTSTART:20260413T140000
DTEND:20260413T150000
LOCATION:Princess Anne Library\, 11767 Beechwood St\, Princess Anne\, MD 21853\, USA
DESCRIPTION:Educational fun for kids of every age!\n\nToday's STEAM: Flower Slime- Create a spring themed slime with some flower glitter!\nMore info: https://somelibrary.org/\nActiveBury: https://www.activebury.com/events/1872
URL:https://www.activebury.com/events/1872
END:VEVENT
END:VCALENDAR
