BEGIN:VCALENDAR
VERSION:2.0
PRODID:-//ActiveBury//Events//EN
CALSCALE:GREGORIAN
BEGIN:VEVENT
UID:event-1870@activebury.com
DTSTAMP:20260425T133418Z
SUMMARY:Charity Sew
DTSTART:20260413T100000
DTEND:20260413T120000
LOCATION:Princess Anne Library\, 11767 Beechwood St\, Princess Anne\, MD 21853\, USA
DESCRIPTION:Join this group in sewing items to donate to Somerset County Social Services. Can&#39\;t join in person? No worries\, we will have patterns available for pick up on a first come\, first serve basis at the Princess Anne circulation desk.\nMore info: https://somelibrary.org/\nActiveBury: https://www.activebury.com/events/1870
URL:https://www.activebury.com/events/1870
END:VEVENT
END:VCALENDAR
