BEGIN:VCALENDAR
VERSION:2.0
PRODID:-//ActiveBury//Events//EN
CALSCALE:GREGORIAN
BEGIN:VEVENT
UID:event-187@activebury.com
DTSTAMP:20260425T133815Z
SUMMARY:Teen Tuesdays
DTSTART:20260210T150000
DTEND:20260210T163000
LOCATION:Paul S. Sarbanes Branch
DESCRIPTION:This event is in the "Ages 12-18" group Cancelled 3:00pm–4:30pm Ages 12-18 Paul S. Sarbanes Branch Closed Registration Available This event is in the "Ages 12-18" group Feb 10 2026 Tue Cancelled Teen Tuesdays 3:00pm–4:30pm Paul S. Sarbanes Branch Closed Please note you are looking at an event that has already happened. Paul S. Sarbanes Branch Teen Game Room Ages 12-18 Arts and Crafts \, STEM \, Games \, Other Registration Available At a Glance:\nMore info: https://www.wicomicolibrary.org/event/teen-tuesdays-21632\nActiveBury: https://www.activebury.com/events/187
URL:https://www.activebury.com/events/187
END:VEVENT
END:VCALENDAR
