BEGIN:VCALENDAR
VERSION:2.0
PRODID:-//ActiveBury//Events//EN
CALSCALE:GREGORIAN
BEGIN:VEVENT
UID:event-1869@activebury.com
DTSTAMP:20260425T154107Z
SUMMARY:Lego Club-Create a rain cloud
DTSTART:20260411T140000
DTEND:20260411T160000
LOCATION:Princess Anne Library\, 11767 Beechwood St\, Princess Anne\, MD 21853\, USA
DESCRIPTION:Come out and complete our Lego challenges!\n\nTodays challenge:Create a rain cloud\nMore info: https://somelibrary.org/\nActiveBury: https://www.activebury.com/events/1869
URL:https://www.activebury.com/events/1869
END:VEVENT
END:VCALENDAR
