BEGIN:VCALENDAR
VERSION:2.0
PRODID:-//ActiveBury//Events//EN
CALSCALE:GREGORIAN
BEGIN:VEVENT
UID:event-1868@activebury.com
DTSTAMP:20260425T133429Z
SUMMARY:Lego Club- Create a rain cloud
DTSTART:20260411T140000
DTEND:20260411T160000
LOCATION:Crisfield Library\, 100 Collins St\, Crisfield\, MD 21817\, USA
DESCRIPTION:Come out and complete our Lego challenges!\n\nTodays challenge:Create a rain cloud\nMore info: https://somelibrary.org/\nActiveBury: https://www.activebury.com/events/1868
URL:https://www.activebury.com/events/1868
END:VEVENT
END:VCALENDAR
