BEGIN:VCALENDAR
VERSION:2.0
PRODID:-//ActiveBury//Events//EN
CALSCALE:GREGORIAN
BEGIN:VEVENT
UID:event-1867@activebury.com
DTSTAMP:20260425T133421Z
SUMMARY:Google Account & Gmail
DTSTART:20260411T110000
DTEND:20260411T120000
DESCRIPTION:Join us to learn about how to create a Google account\, use the Google Drive\, and Gmail. Registration required.\nMore info: https://somelibrary.org/\nActiveBury: https://www.activebury.com/events/1867
URL:https://www.activebury.com/events/1867
END:VEVENT
END:VCALENDAR
