BEGIN:VCALENDAR
VERSION:2.0
PRODID:-//ActiveBury//Events//EN
CALSCALE:GREGORIAN
BEGIN:VEVENT
UID:event-1860@activebury.com
DTSTAMP:20260425T133423Z
SUMMARY:S.T.E.A.M.-Spring Collage
DTSTART:20260408T140000
DTEND:20260408T150000
LOCATION:Crisfield Library\, 100 Collins St\, Crisfield\, MD 21817\, USA
DESCRIPTION:Educational fun for kids of every age!\n\nToday's STEAM: Spring Collage- Create a one-of-a-kind art piece using bits of recycled paper!\nMore info: https://somelibrary.org/\nActiveBury: https://www.activebury.com/events/1860
URL:https://www.activebury.com/events/1860
END:VEVENT
END:VCALENDAR
