BEGIN:VCALENDAR
VERSION:2.0
PRODID:-//ActiveBury//Events//EN
CALSCALE:GREGORIAN
BEGIN:VEVENT
UID:event-1859@activebury.com
DTSTAMP:20260425T133427Z
SUMMARY:Upscaled Hand Soap
DTSTART:20260408T110000
DTEND:20260408T123000
LOCATION:Princess Anne Library\, 11767 Beechwood St\, Princess Anne\, MD 21853\, USA
DESCRIPTION:Enhance an ordinary liquid hand soap into a customized &amp\; reusable soap dispenser. Choose from an assortment of exterior decorations and fun items to suspend into the clear soap. Registration required.\nMore info: https://somelibrary.org/\nActiveBury: https://www.activebury.com/events/1859
URL:https://www.activebury.com/events/1859
END:VEVENT
END:VCALENDAR
