BEGIN:VCALENDAR
VERSION:2.0
PRODID:-//ActiveBury//Events//EN
CALSCALE:GREGORIAN
BEGIN:VEVENT
UID:event-1858@activebury.com
DTSTAMP:20260425T134025Z
SUMMARY:Toddler Art-Rainy Spring Day
DTSTART:20260408T103000
DTEND:20260408T111500
LOCATION:Crisfield Library\, 100 Collins St\, Crisfield\, MD 21817\, USA
DESCRIPTION:April-Rainy Spring Day\n\nJoin us for a fun-filled toddler art class! Unleash your creativity together and create colorful memories on canvas. All materials plus snacks are provided. Registration Required. Recommended ages under 5.\nMore info: https://somelibrary.org/\nActiveBury: https://www.activebury.com/events/1858
URL:https://www.activebury.com/events/1858
END:VEVENT
END:VCALENDAR
