BEGIN:VCALENDAR
VERSION:2.0
PRODID:-//ActiveBury//Events//EN
CALSCALE:GREGORIAN
BEGIN:VEVENT
UID:event-1857@activebury.com
DTSTAMP:20260425T152032Z
SUMMARY:Tech Help
DTSTART:20260408T100000
DTEND:20260408T120000
DESCRIPTION:More info: https://somelibrary.org/\nActiveBury: https://www.activebury.com/events/1857
URL:https://www.activebury.com/events/1857
END:VEVENT
END:VCALENDAR
