BEGIN:VCALENDAR
VERSION:2.0
PRODID:-//ActiveBury//Events//EN
CALSCALE:GREGORIAN
BEGIN:VEVENT
UID:event-1856@activebury.com
DTSTAMP:20260425T133958Z
SUMMARY:FREE Tax-Aide with AARP
DTSTART:20260408T090000
DTEND:20260408T150000
LOCATION:Crisfield Library\, 100 Collins St\, Crisfield\, MD 21817\, USA
DESCRIPTION:<br><div>AARP will be providing FREE tax-aide at the Crisfield branch on Wednesdays starting 2/11!‼️<br><div>✅By appointment only! Call 410-968-0955 to schedule. <div>✅The program is open to taxpayers of all ages.<div>✅Volunteers are trained and IRS certified. <div>✅All taxpayers must have a government issued ID with them and physical copies of all current years tax forms and information with them.</div></div></div></div></div>\nMore info: https://somelibrary.org/\nActiveBury: https://www.activebury.com/events/1856
URL:https://www.activebury.com/events/1856
END:VEVENT
END:VCALENDAR
