BEGIN:VCALENDAR
VERSION:2.0
PRODID:-//ActiveBury//Events//EN
CALSCALE:GREGORIAN
BEGIN:VEVENT
UID:event-1855@activebury.com
DTSTAMP:20260425T133944Z
SUMMARY:TEEN PROGRAM
DTSTART;VALUE=DATE:20260408
DTEND;VALUE=DATE:20260409
DESCRIPTION:More info: https://www.google.com/calendar/event?eid=MzdyazdsNW01ZTAxbmxzMHA3ODBqcjV0M28gc29tZWxpYnJhcnkub3JnXzk4NzFnZnB0OWxvZmEwY290cnBjaXV0Y3NnQGc&ctz=America/New_York\nActiveBury: https://www.activebury.com/events/1855
URL:https://www.activebury.com/events/1855
END:VEVENT
END:VCALENDAR
