BEGIN:VCALENDAR
VERSION:2.0
PRODID:-//ActiveBury//Events//EN
CALSCALE:GREGORIAN
BEGIN:VEVENT
UID:event-1852@activebury.com
DTSTAMP:20260425T133421Z
SUMMARY:Chronic Kidney Disease Workshop
DTSTART:20260407T110000
DTEND:20260407T123000
LOCATION:Crisfield Library\, 100 Collins St\, Crisfield\, MD 21817\, USA
DESCRIPTION:Take control of your kidney health at this no-cost Chronic Kidney Disease workshop presented by TidalHealth. Learn proven strategies\, ask questions\, and receive valuable resources - Register today at 410-912-5824.\nMore info: https://somelibrary.org/\nActiveBury: https://www.activebury.com/events/1852
URL:https://www.activebury.com/events/1852
END:VEVENT
END:VCALENDAR
