BEGIN:VCALENDAR
VERSION:2.0
PRODID:-//ActiveBury//Events//EN
CALSCALE:GREGORIAN
BEGIN:VEVENT
UID:event-1851@activebury.com
DTSTAMP:20260425T133432Z
SUMMARY:TEEN PROGRAM
DTSTART;VALUE=DATE:20260407
DTEND;VALUE=DATE:20260408
DESCRIPTION:More info: https://www.google.com/calendar/event?eid=NzY1MHQwMDE5NnAxbGNhMzRxNWJkaHRkNjUgc29tZWxpYnJhcnkub3JnXzkxc2JlNmFzZjRwaGNpcThsY24ycmxhZjFrQGc&ctz=America/New_York\nActiveBury: https://www.activebury.com/events/1851
URL:https://www.activebury.com/events/1851
END:VEVENT
END:VCALENDAR
