BEGIN:VCALENDAR
VERSION:2.0
PRODID:-//ActiveBury//Events//EN
CALSCALE:GREGORIAN
BEGIN:VEVENT
UID:event-1849@activebury.com
DTSTAMP:20260425T133303Z
SUMMARY:Upscaled Hand Soap
DTSTART:20260406T110000
DTEND:20260406T123000
LOCATION:Crisfield Library\, 100 Collins St\, Crisfield\, MD 21817\, USA
DESCRIPTION:Enhance an ordinary liquid hand soap into a customized &amp\; reusable soap dispenser. Choose from an assortment of exterior decorations and fun items to suspend into the clear soap. Registration required.\nMore info: https://somelibrary.org/\nActiveBury: https://www.activebury.com/events/1849
URL:https://www.activebury.com/events/1849
END:VEVENT
END:VCALENDAR
