BEGIN:VCALENDAR
VERSION:2.0
PRODID:-//ActiveBury//Events//EN
CALSCALE:GREGORIAN
BEGIN:VEVENT
UID:event-1841@activebury.com
DTSTAMP:20260425T133325Z
SUMMARY:EXHIBIT GRAND OPENING
DTSTART:20260401T050000
LOCATION:Poplar Hill Mansion\, Salisbury\, MD
DESCRIPTION:April 1st at 5:00. Come to Poplar Hill Mansion for the grand opening of our 2026 exhibit to celebrate the Semiquincentennial\, Long May It Wave: The Evolution of the American Flag and American Symbolism. The event will include light refreshments and music. Free event. POPLAR HILL MANSION FESTIVAL: CELEBRATING OVER 200 YEARS OF HISTORY\nMore info: https://poplarhillmansion.org/events/\nActiveBury: https://www.activebury.com/events/1841
URL:https://www.activebury.com/events/1841
END:VEVENT
END:VCALENDAR
