BEGIN:VCALENDAR
VERSION:2.0
PRODID:-//ActiveBury//Events//EN
CALSCALE:GREGORIAN
BEGIN:VEVENT
UID:event-1839@activebury.com
DTSTAMP:20260425T134255Z
SUMMARY:Maryland International Kite Exposition
DTSTART;VALUE=DATE:20260424
DTEND;VALUE=DATE:20260427
LOCATION:3rd - 7th Street Beach Ocean City\, MD 21842
DESCRIPTION:The Kite Loft and Ocean City\, Maryland welcome you to come and fly on the beautiful beaches along our famous boardwalk. The Maryland International...\nMore info: https://www.ococean.com/event/maryland-international-kite-exposition/2676/\nActiveBury: https://www.activebury.com/events/1839
URL:https://www.activebury.com/events/1839
END:VEVENT
END:VCALENDAR
