BEGIN:VCALENDAR
VERSION:2.0
PRODID:-//ActiveBury//Events//EN
CALSCALE:GREGORIAN
BEGIN:VEVENT
UID:event-1838@activebury.com
DTSTAMP:20260425T133956Z
SUMMARY:55th Annual Ward World Championship Wildfowl Carving Competition & Art Festival
DTSTART;VALUE=DATE:20260423
DTEND;VALUE=DATE:20260427
LOCATION:Roland E. Powell Convention Center\, 4001 Coastal Hwy\, Ocean City\, MD 21842 | 4001 Coastal Hwy - Ocean City\, MD\, 21842
DESCRIPTION:The world’s premier celebration of wildfowl art returns! Artists\, collectors\, and nature lovers gather for an unforgettable weekend of masterful bird...\nMore info: https://www.ococean.com/event/55th-annual-ward-world-championship-wildfowl-carving-competition-%26-art-festival/2677/\nActiveBury: https://www.activebury.com/events/1838
URL:https://www.activebury.com/events/1838
END:VEVENT
END:VCALENDAR
