BEGIN:VCALENDAR
VERSION:2.0
PRODID:-//ActiveBury//Events//EN
CALSCALE:GREGORIAN
BEGIN:VEVENT
UID:event-1835@activebury.com
DTSTAMP:20260425T133416Z
SUMMARY:2026 Hops on the River
DTSTART:20260425T140000
DTEND:20260425T170000
LOCATION:Downtown Salisbury
DESCRIPTION:Hops on the River in Downtown Salisbury!\n\nSun’s out\, glasses up — Hops on the River is a downtown hang done right: great beer\, great people\, and great vibes in Downtown Salisbury. Join us for the 6th annual craft beer tasting event on Saturday\, April 25\, set up along the Wicomico River between Unity Square and the Games Park — the perfect spot for an afternoon of sipping\, strolling\, and soaking up the energy of Downtown.\nMore info: https://salisbury.md/hops\nActiveBury: https://www.activebury.com/events/1835
URL:https://www.activebury.com/events/1835
END:VEVENT
END:VCALENDAR
