BEGIN:VCALENDAR
VERSION:2.0
PRODID:-//ActiveBury//Events//EN
CALSCALE:GREGORIAN
BEGIN:VEVENT
UID:event-1834@activebury.com
DTSTAMP:20260425T133945Z
SUMMARY:Salisbury Zoo Earth Day
DTSTART:20260418T110000
DTEND:20260418T160000
LOCATION:Salisbury Zoological Park (755 S Park Dr\, Salisbury\, MD)
DESCRIPTION:Free Earth Day celebration at the Salisbury Zoo featuring ambassador animals\, environmental exhibitors\, vendors\, and family-friendly nature activities.\nMore info: https://salisburyzoo.org/earth-day/\nActiveBury: https://www.activebury.com/events/1834
URL:https://www.activebury.com/events/1834
END:VEVENT
END:VCALENDAR
