BEGIN:VCALENDAR
VERSION:2.0
PRODID:-//ActiveBury//Events//EN
CALSCALE:GREGORIAN
BEGIN:VEVENT
UID:event-1833@activebury.com
DTSTAMP:20260425T133421Z
SUMMARY:3rd Friday - SU Centennial
DTSTART:20260417T170000
DTEND:20260417T200000
LOCATION:Downtown Salisbury
DESCRIPTION:Experience the energy of Downtown Salisbury at our monthly outdoor marketplace! Each month\, the streets come alive with local vendors offering handmade goods\, art\, treats\, and unique finds alongside interactive activities for all ages and live music filling the air. It’s the perfect chance to stroll\, shop\, and connect with the community while supporting local businesses and creators.\nMore info: https://www.3rdfridaysby.com/event-details/april-3rd-friday-2026\nActiveBury: https://www.activebury.com/events/1833
URL:https://www.activebury.com/events/1833
END:VEVENT
END:VCALENDAR
