BEGIN:VCALENDAR
VERSION:2.0
PRODID:-//ActiveBury//Events//EN
CALSCALE:GREGORIAN
BEGIN:VEVENT
UID:event-1831@activebury.com
DTSTAMP:20260425T133433Z
SUMMARY:Salisbury Marathon
DTSTART;VALUE=DATE:20260404
DTEND;VALUE=DATE:20260405
LOCATION:Downtown Salisbury
DESCRIPTION:More info: https://www.sbymarathon.com/\nActiveBury: https://www.activebury.com/events/1831
URL:https://www.activebury.com/events/1831
END:VEVENT
END:VCALENDAR
