BEGIN:VCALENDAR
VERSION:2.0
PRODID:-//ActiveBury//Events//EN
CALSCALE:GREGORIAN
BEGIN:VEVENT
UID:event-1830@activebury.com
DTSTAMP:20260425T143042Z
SUMMARY:The Future of Disability Rights
DTSTART;VALUE=DATE:20260402
DTEND;VALUE=DATE:20260403
LOCATION:Downtown Salisbury
DESCRIPTION:More info: https://www.salisbury.edu/administration/academic-affairs/reach/\nActiveBury: https://www.activebury.com/events/1830
URL:https://www.activebury.com/events/1830
END:VEVENT
END:VCALENDAR
