BEGIN:VCALENDAR
VERSION:2.0
PRODID:-//ActiveBury//Events//EN
CALSCALE:GREGORIAN
BEGIN:VEVENT
UID:event-183@activebury.com
DTSTAMP:20260425T133301Z
SUMMARY:Paws to Read
DTSTART:20260209T173000
DTEND:20260209T183000
LOCATION:Paul S. Sarbanes Branch
DESCRIPTION:This event is in the "Ages 0-5" group This event is in the "Ages 6-11" group 5:30pm–6:30pm Ages 0-5\, Ages 6-11 Paul S. Sarbanes Branch Closed Registration Available This event is in the "Ages 0-5" group This event is in the "Ages 6-11" group Feb 9 2026 Mon Paws to Read 5:30pm–6:30pm Paul S. Sarbanes Branch Closed Please note you are looking at an event that has already happened. Paul S. Sarbanes Branch Teen Game Room Ages 0-5 \, Ages 6-11 Class or Workshop \, Reading Challenge Registration Available Join us for Paws to Read \, a fun and engaging program where children can read aloud to a friendly dog for 5 to 10 minutes. Upon arrival\, readers can pick up a ticket that corresponds to the dog they wish to read to. (s) Attending Children Children under 8 must be monitored by a guardian who is at\nMore info: https://www.wicomicolibrary.org/event/paws-read-20988\nActiveBury: https://www.activebury.com/events/183
URL:https://www.activebury.com/events/183
END:VEVENT
END:VCALENDAR
