BEGIN:VCALENDAR
VERSION:2.0
PRODID:-//ActiveBury//Events//EN
CALSCALE:GREGORIAN
BEGIN:VEVENT
UID:event-1824@activebury.com
DTSTAMP:20260425T133437Z
SUMMARY:Tween Tabletop Club
DTSTART:20260428T160000
DTEND:20260428T190000
LOCATION:Federalsburg Branch
DESCRIPTION:Tween Tabletop Club is gearing up for its next adventure! Magic\, mayhem\, and merriment abound when the dice start rolling.\nMore info: https://carolinecounty.librarycalendar.com/event/tween-tabletop-2737\nActiveBury: https://www.activebury.com/events/1824
URL:https://www.activebury.com/events/1824
END:VEVENT
END:VCALENDAR
