BEGIN:VCALENDAR
VERSION:2.0
PRODID:-//ActiveBury//Events//EN
CALSCALE:GREGORIAN
BEGIN:VEVENT
UID:event-1823@activebury.com
DTSTAMP:20260426T013926Z
SUMMARY:Tech Tuesdays
DTSTART:20260428T140000
DTEND:20260428T160000
LOCATION:Central Branch Denton
DESCRIPTION:Need Help with Technology?\nMore info: https://carolinecounty.librarycalendar.com/event/tech-tuesdays-2718\nActiveBury: https://www.activebury.com/events/1823
URL:https://www.activebury.com/events/1823
END:VEVENT
END:VCALENDAR
