BEGIN:VCALENDAR
VERSION:2.0
PRODID:-//ActiveBury//Events//EN
CALSCALE:GREGORIAN
BEGIN:VEVENT
UID:event-1821@activebury.com
DTSTAMP:20260425T133747Z
SUMMARY:Speak Your Truth: A Poetry Workshop
DTSTART:20260425T120000
DTEND:20260425T133000
LOCATION:Central Branch Denton
DESCRIPTION:Join us for a magical afternoon with creatives\, led by Sista Big — poet and powerful speaker.\nMore info: https://carolinecounty.librarycalendar.com/event/speak-your-truth-poetry-workshop-1894\nActiveBury: https://www.activebury.com/events/1821
URL:https://www.activebury.com/events/1821
END:VEVENT
END:VCALENDAR
