BEGIN:VCALENDAR
VERSION:2.0
PRODID:-//ActiveBury//Events//EN
CALSCALE:GREGORIAN
BEGIN:VEVENT
UID:event-1820@activebury.com
DTSTAMP:20260425T133430Z
SUMMARY:Mindful Yoga
DTSTART:20260424T103000
DTEND:20260424T113000
LOCATION:Central Branch Denton
DESCRIPTION:Join us for Mindful Yoga\, a supportive practice that blends gentle yoga\, range-of-motion movements\, meditation\, and mindfulness to enhance overall well-being.\nMore info: https://carolinecounty.librarycalendar.com/event/mindful-yoga-1969\nActiveBury: https://www.activebury.com/events/1820
URL:https://www.activebury.com/events/1820
END:VEVENT
END:VCALENDAR
