BEGIN:VCALENDAR
VERSION:2.0
PRODID:-//ActiveBury//Events//EN
CALSCALE:GREGORIAN
BEGIN:VEVENT
UID:event-1816@activebury.com
DTSTAMP:20260425T133427Z
SUMMARY:Paws for Reading
DTSTART:20260423T163000
DTEND:20260423T170000
LOCATION:Central Branch Denton
DESCRIPTION:Hey kids\, come read to Grigsby! Reading shouldn't be a chore. Grigsby is a great listener who lets you practice reading in a calm\, quiet environment. Reserve your 30 minute session with Grigsby today.\nMore info: https://carolinecounty.librarycalendar.com/event/paws-reading-2706\nActiveBury: https://www.activebury.com/events/1816
URL:https://www.activebury.com/events/1816
END:VEVENT
END:VCALENDAR
