BEGIN:VCALENDAR
VERSION:2.0
PRODID:-//ActiveBury//Events//EN
CALSCALE:GREGORIAN
BEGIN:VEVENT
UID:event-1814@activebury.com
DTSTAMP:20260425T133436Z
SUMMARY:Lego Mania
DTSTART:20260422T170000
DTEND:20260422T190000
LOCATION:North County Branch Greensboro
DESCRIPTION:Calling all young builders! Are you ready to take on this month's Lego® challenge? Come to Lego® Mania and make something using every color of the rainbow or free build. For ages 5-12 years. No registration necessary.\nMore info: https://carolinecounty.librarycalendar.com/event/lego-mania-2913\nActiveBury: https://www.activebury.com/events/1814
URL:https://www.activebury.com/events/1814
END:VEVENT
END:VCALENDAR
