BEGIN:VCALENDAR
VERSION:2.0
PRODID:-//ActiveBury//Events//EN
CALSCALE:GREGORIAN
BEGIN:VEVENT
UID:event-1811@activebury.com
DTSTAMP:20260425T133436Z
SUMMARY:Author Spotlight: Jim Duffy
DTSTART:20260421T180000
DTEND:20260421T190000
LOCATION:Central Branch Denton
DESCRIPTION:Step back in time with talented author and historian Jim Duffy as he weaves the tales of the Eastern Shore in a warm and reflective way. Join us on Tuesday\, April 21\, at 6:00 p.m. for an engaging evening with author Jim Duffy.\nMore info: https://carolinecounty.librarycalendar.com/event/Author_Jim_Duffy\nActiveBury: https://www.activebury.com/events/1811
URL:https://www.activebury.com/events/1811
END:VEVENT
END:VCALENDAR
