BEGIN:VCALENDAR
VERSION:2.0
PRODID:-//ActiveBury//Events//EN
CALSCALE:GREGORIAN
BEGIN:VEVENT
UID:event-1810@activebury.com
DTSTAMP:20260425T133425Z
SUMMARY:Tech Tuesdays
DTSTART:20260421T140000
DTEND:20260421T160000
LOCATION:Central Branch Denton
DESCRIPTION:Need Help with Technology?\nMore info: https://carolinecounty.librarycalendar.com/event/tech-tuesdays-2717\nActiveBury: https://www.activebury.com/events/1810
URL:https://www.activebury.com/events/1810
END:VEVENT
END:VCALENDAR
