BEGIN:VCALENDAR
VERSION:2.0
PRODID:-//ActiveBury//Events//EN
CALSCALE:GREGORIAN
BEGIN:VEVENT
UID:event-1809@activebury.com
DTSTAMP:20260425T133848Z
SUMMARY:Federalsburg Bookies
DTSTART:20260421T130000
DTEND:20260421T140000
LOCATION:Federalsburg Branch
DESCRIPTION:Federalsburg Bookies book discussion group meets in person at the Federalsburg Branch Library on the third Tuesday of each month at 1pm. This group reads a variety of fiction.\nMore info: https://carolinecounty.librarycalendar.com/event/federalsburg-bookies-2517\nActiveBury: https://www.activebury.com/events/1809
URL:https://www.activebury.com/events/1809
END:VEVENT
END:VCALENDAR
